BEGIN:VCALENDAR
VERSION:2.0
PRODID:-//wp-events-plugin.com//7.2.3.1//EN
TZID:America/Sao_Paulo
X-WR-TIMEZONE:America/Sao_Paulo
BEGIN:VEVENT
UID:22@csb.esp.br
DTSTART;TZID=America/Sao_Paulo:20261107T000000
DTEND;TZID=America/Sao_Paulo:20261109T000000
DTSTAMP:20251222T163748Z
URL:https://csb.esp.br/events/csb-trofeu-brasil-open-internacional/
SUMMARY:CSB Troféu Brasil – Open Internacional
DESCRIPTION:Clubes: Menores\, Junior\, Sênior e Master
CATEGORIES:Velocidade
LOCATION:A Definir\, \, Brasil
X-APPLE-STRUCTURED-LOCATION;VALUE=URI;X-ADDRESS=\, Brasil;X-APPLE-RADIUS=10
 0;X-TITLE=A Definir:geo:0,0
END:VEVENT
BEGIN:VTIMEZONE
TZID:America/Sao_Paulo
X-LIC-LOCATION:America/Sao_Paulo
BEGIN:STANDARD
DTSTART:20251107T000000
TZOFFSETFROM:-0300
TZOFFSETTO:-0300
TZNAME:-03
END:STANDARD
END:VTIMEZONE
END:VCALENDAR