BEGIN:VCALENDAR
VERSION:2.0
PRODID:-//wp-events-plugin.com//7.2.3.1//EN
TZID:America/Sao_Paulo
X-WR-TIMEZONE:America/Sao_Paulo
BEGIN:VEVENT
UID:5@csb.esp.br
DTSTART;TZID=America/Sao_Paulo:20260328T000000
DTEND;TZID=America/Sao_Paulo:20260329T000000
DTSTAMP:20260325T142430Z
URL:https://csb.esp.br/events/csb-copa-sudeste-de-base/
SUMMARY:CSB Copa Sudeste de Base
DESCRIPTION:(Equipes MISTAS)\n12 anos\, 14 anos e 16 anos\n&nbsp\;\n\nTabel
 a Oficial 2026 - Copa Sudeste\n\n&nbsp\;\n\n
CATEGORIES:Hóquei Tradicional
LOCATION:https://maps.app.goo.gl/wNFJ4mMsNQ1jsDBL6
END:VEVENT
BEGIN:VTIMEZONE
TZID:America/Sao_Paulo
X-LIC-LOCATION:America/Sao_Paulo
BEGIN:STANDARD
DTSTART:20250328T000000
TZOFFSETFROM:-0300
TZOFFSETTO:-0300
TZNAME:-03
END:STANDARD
END:VTIMEZONE
END:VCALENDAR