BEGIN:VCALENDAR
VERSION:2.0
PRODID:-//wp-events-plugin.com//7.2.3.1//EN
TZID:America/Sao_Paulo
X-WR-TIMEZONE:America/Sao_Paulo
BEGIN:VEVENT
UID:14@csb.esp.br
DTSTART;TZID=America/Sao_Paulo:20260706T000000
DTEND;TZID=America/Sao_Paulo:20260711T000000
DTSTAMP:20251222T163025Z
URL:https://csb.esp.br/events/csb-campeonatos-brasileiros-de-base/
SUMMARY:CSB Campeonatos Brasileiros de Base
DESCRIPTION:(Equipes MISTAS) 12 anos\, 14 Anos e 16 Anos
CATEGORIES:Hóquei Tradicional
LOCATION:Amparo / SP\, \, 
X-APPLE-STRUCTURED-LOCATION;VALUE=URI;X-ADDRESS=\, ;X-APPLE-RADIUS=100;X-TI
 TLE=Amparo / SP:geo:0,0
END:VEVENT
BEGIN:VTIMEZONE
TZID:America/Sao_Paulo
X-LIC-LOCATION:America/Sao_Paulo
BEGIN:STANDARD
DTSTART:20250706T000000
TZOFFSETFROM:-0300
TZOFFSETTO:-0300
TZNAME:-03
END:STANDARD
END:VTIMEZONE
END:VCALENDAR