BEGIN:VCALENDAR
VERSION:2.0
PRODID:-//wp-events-plugin.com//7.2.3.1//EN
TZID:America/Sao_Paulo
X-WR-TIMEZONE:America/Sao_Paulo
BEGIN:VEVENT
UID:10@csb.esp.br
DTSTART;TZID=America/Sao_Paulo:20260411T000000
DTEND;TZID=America/Sao_Paulo:20260412T000000
DTSTAMP:20260331T022534Z
URL:https://csb.esp.br/events/csb-campeonato-brasileiro-street-park/
SUMMARY:CSB Campeonato Brasileiro - Street e Park
DESCRIPTION:\nStreet e Park - Júnior - Sênior (Masc / Fem)\nInscrições:
  10/03 a 31/03\nPRORROGADO ATÉ (05/04)\n\nOfício 013/2026-PRES/CSB - Cam
 peonato Brasileiro\n\nEmitir Declaração de participação 
CATEGORIES:Roller Freestyle
LOCATION:https://maps.app.goo.gl/oaTJ2EMMeDQFJYFTA
END:VEVENT
BEGIN:VTIMEZONE
TZID:America/Sao_Paulo
X-LIC-LOCATION:America/Sao_Paulo
BEGIN:STANDARD
DTSTART:20250411T000000
TZOFFSETFROM:-0300
TZOFFSETTO:-0300
TZNAME:-03
END:STANDARD
END:VTIMEZONE
END:VCALENDAR