BEGIN:VCALENDAR
VERSION:2.0
PRODID:-//wp-events-plugin.com//7.2.3.1//EN
TZID:America/Sao_Paulo
X-WR-TIMEZONE:America/Sao_Paulo
BEGIN:VEVENT
UID:6@csb.esp.br
DTSTART;TZID=America/Sao_Paulo:20260328T000000
DTEND;TZID=America/Sao_Paulo:20260329T000000
DTSTAMP:20260326T172559Z
URL:https://csb.esp.br/events/csb-campeonato-brasileiro-slalom-jump-e-slid
 e/
SUMMARY:CSB Campeonato Brasileiro Slalom\, Jump e Slide
DESCRIPTION:Categoria: Mirim\, Junior e Senior (Masc / Fem)\nInscrições: 
 23/02 à 09/03\n\nOFÍCIO 012/2026-PRES/CSB - Campeonato Brasileiro\n\nLis
 ta de inscritos\nProgramação do Evento\n27/03/2026 — Sexta-feira16:00 
 às 20:00 — Reconhecimento de pista\n28/03/2026 — Sábado09:00 — Reu
 nião / Congresso Técnico10:45 — Check in Classic Slalom Feminino11:00 
 — Classic Slalom Feminino12:00 — Almoço13:30 — Check in Classic Sla
 lom Masculino13:45 — Classic Slalom Masculino14:45 — Check in Slides (
 Fem / Masc)15:00 — Slides (Fem / Masc)17:30 — Cerimônia de Premiaçã
 o\n29/03/2026 — Domingo10:00 — Check in Speed Slalom (Fem / Masc)10:15
  — Speed Slalom11:00 — Check in Battle Slalom Feminino11:15 — Battle
  Slalom Feminino12:00 — Almoço13:30 — Check in Battle Slalom Masculin
 o13:45 — Battle Slalom Masculino15:00 — Check in Free Jump (Fem / Masc
 )15:45 — Free Jump (Fem / Masc)17:30 — Cerimônia de Premiação
CATEGORIES:Inline Freestyle
LOCATION:https://maps.app.goo.gl/mLCitEyNZxMDKipC6
END:VEVENT
BEGIN:VTIMEZONE
TZID:America/Sao_Paulo
X-LIC-LOCATION:America/Sao_Paulo
BEGIN:STANDARD
DTSTART:20250328T000000
TZOFFSETFROM:-0300
TZOFFSETTO:-0300
TZNAME:-03
END:STANDARD
END:VTIMEZONE
END:VCALENDAR