BEGIN:VCALENDAR
VERSION:2.0
PRODID:-//wp-events-plugin.com//7.2.3.1//EN
TZID:America/Sao_Paulo
X-WR-TIMEZONE:America/Sao_Paulo
BEGIN:VEVENT
UID:3@csb.esp.br
DTSTART;TZID=America/Sao_Paulo:20260601T000000
DTEND;TZID=America/Sao_Paulo:20260614T000000
DTSTAMP:20251222T151657Z
URL:https://csb.esp.br/events/csb-campeonato-brasileiro-roller-derby-2/
SUMMARY:CSB Campeonato Brasileiro
DESCRIPTION:A data do evento ainda não foi definida\, mas está previsto p
 ara a primeira quinzena de junho!
CATEGORIES:Roller Derby
LOCATION:A Definir\, \, Brasil
X-APPLE-STRUCTURED-LOCATION;VALUE=URI;X-ADDRESS=\, Brasil;X-APPLE-RADIUS=10
 0;X-TITLE=A Definir:geo:0,0
END:VEVENT
BEGIN:VTIMEZONE
TZID:America/Sao_Paulo
X-LIC-LOCATION:America/Sao_Paulo
BEGIN:STANDARD
DTSTART:20250601T000000
TZOFFSETFROM:-0300
TZOFFSETTO:-0300
TZNAME:-03
END:STANDARD
END:VTIMEZONE
END:VCALENDAR