BEGIN:VCALENDAR
VERSION:2.0
PRODID:-//wp-events-plugin.com//7.2.3.1//EN
TZID:America/Sao_Paulo
X-WR-TIMEZONE:America/Sao_Paulo
BEGIN:VEVENT
UID:7@csb.esp.br
DTSTART;TZID=America/Sao_Paulo:20260516T000000
DTEND;TZID=America/Sao_Paulo:20260517T000000
DTSTAMP:20260407T120655Z
URL:https://csb.esp.br/events/csb-campeonato-brasileiro-de-skate-cross/
SUMMARY:CSB Campeonato Brasileiro
DESCRIPTION:Teremos somente nacional Júnior e sênior\nMasculino e feminin
 o\nEtapa classificatória para a seleção brasileira de skate Cross\nInsc
 rições: até 30/04/2026\, até 23:59 (Brasília)\n\n&nbsp\;\n\nhttps://s
 katecross.com.br/
CATEGORIES:Skate Cross
LOCATION:https://maps.app.goo.gl/9wMe2UKJLP9o84YJA
END:VEVENT
BEGIN:VTIMEZONE
TZID:America/Sao_Paulo
X-LIC-LOCATION:America/Sao_Paulo
BEGIN:STANDARD
DTSTART:20250516T000000
TZOFFSETFROM:-0300
TZOFFSETTO:-0300
TZNAME:-03
END:STANDARD
END:VTIMEZONE
END:VCALENDAR