BEGIN:VCALENDAR
VERSION:2.0
PRODID:-//wp-events-plugin.com//7.2.3.1//EN
TZID:America/Sao_Paulo
X-WR-TIMEZONE:America/Sao_Paulo
BEGIN:VEVENT
UID:24@csb.esp.br
DTSTART;TZID=America/Sao_Paulo:20260302T000000
DTEND;TZID=America/Sao_Paulo:20260302T000000
DTSTAMP:20260220T170517Z
URL:https://csb.esp.br/events/csb-campeonato-brasileiro-3/
SUMMARY:CSB Campeonato Brasileiro
DESCRIPTION:A cidade de Amparo (SP) será o palco do CSB CAMPEONATO BRASILE
 IRO DE PATINAÇÃO ARTÍSTICA 2026. A Confederação Skate Brasil (CSB)\, 
 em conjunto com o Comitê Técnico de Patinação Artística (CTPA)\, tem 
 o prazer de anunciar a programação completa para o evento.\nPara instru
 ções da inscrições CSB Digital: CSB Digital\nPara fazer uma inscriçã
 o: ENCERRADO!\nCronograma Preparatório\nPrazo de inscrições: 05/01/2026
  a 23/01/2026Conferência clubes: 24\, 25 e 26/01/2026Prazo para pagamento
 : 30/01/2026Programação prévia: 04/02/2026Programação final: 11/02/20
 26Prazo para envio músicas e sets: 20/02/2026Evento: 02/03/2026 (início 
 do Campeonato Brasileiro)\nEnvio de MÚSICAS\, SETS e ATESTADO:  Platafor
 ma de envios CTPA\nATESTADO ESCOLAR:  Emissão de atestado escolar\nProgr
 amação:\n\nCLIQUE AQUI PARA VER A PROGRAMAÇÃO \n O link acima será 
 utilizado para divulgação dia a dia da programação com ordem de saida\
 , desistencias\, informações do evento e resultados.\nCOMUNICADOS:\n\nRo
 teiro Turístico Região de Amparo\n\nReserva de horários PISTAS em Ampar
 o\nGuia do Atleta\n(Em Breve)\nCONFIRA TAMBÉM:\n\nJORNADA CSB DIGITAL:\n\
 nInformações e orientação para todos os passos\, desde o registro de a
 tletas até a inscrição em eventos\nhttps://csb.esp.br/CSBdigital/\n&nbs
 p\;\n\n&nbsp\;
CATEGORIES:Patinação Artística
LOCATION:Centro Esportivo e Ginásio Municipal Laérzio Carletti (Bolão)\,
  Rua Rodrigo de Arruda Botelho\, 107 \, Amparo \, São Paulo\, 13905-140\,
  Brasil
X-APPLE-STRUCTURED-LOCATION;VALUE=URI;X-ADDRESS=Rua Rodrigo de Arruda Botel
 ho\, 107 \, Amparo \, São Paulo\, 13905-140\, Brasil;X-APPLE-RADIUS=100;X
 -TITLE=Centro Esportivo e Ginásio Municipal Laérzio Carletti (Bolão):ge
 o:0,0
END:VEVENT
BEGIN:VTIMEZONE
TZID:America/Sao_Paulo
X-LIC-LOCATION:America/Sao_Paulo
BEGIN:STANDARD
DTSTART:20250302T000000
TZOFFSETFROM:-0300
TZOFFSETTO:-0300
TZNAME:-03
END:STANDARD
END:VTIMEZONE
END:VCALENDAR