BEGIN:VCALENDAR
VERSION:2.0
PRODID:-//wp-events-plugin.com//7.2.3.1//EN
TZID:America/Sao_Paulo
X-WR-TIMEZONE:America/Sao_Paulo
BEGIN:VEVENT
UID:25@csb.esp.br
DTSTART;TZID=America/Sao_Paulo:20260605T000000
DTEND;TZID=America/Sao_Paulo:20260607T000000
DTSTAMP:20260407T130001Z
URL:https://csb.esp.br/events/campeonato-brasileiro-etapa-pista/
SUMMARY:Campeonato Brasileiro - Etapa Pista
DESCRIPTION:Todas as modalidades.\n\nInscrições: de 01/05 até 15/05\n
CATEGORIES:Velocidade
LOCATION:https://maps.app.goo.gl/vuCvanGBGqsQSFnZ9
END:VEVENT
BEGIN:VTIMEZONE
TZID:America/Sao_Paulo
X-LIC-LOCATION:America/Sao_Paulo
BEGIN:STANDARD
DTSTART:20250605T000000
TZOFFSETFROM:-0300
TZOFFSETTO:-0300
TZNAME:-03
END:STANDARD
END:VTIMEZONE
END:VCALENDAR